BEGIN:VCALENDAR
VERSION:2.0
PRODID:-//Tukios.com/
BEGIN:VEVENT
UID:e09f5ac1-beb4-4ee8-8eae-2da362b68d6e@www.bauerfh.com
DTSTAMP:20260423T215507Z
DTSTART:20260427T163000Z
DTEND:20260427T173000Z
SUMMARY:Mass
DESCRIPTION:
URL:https://www.bauerfh.com/obituaries/marianne-buenerkemper
LOCATION:St. Anthony of Padua Catholic Church 101 East Virginia Avenue  
	Effingham IL 62401
GEO:39.1250436;-88.5410693
END:VEVENT
END:VCALENDAR