BEGIN:VCALENDAR
VERSION:2.0
PRODID:-//Tukios.com/
BEGIN:VEVENT
UID:ea89bf89-e235-4ff2-9c07-1fcc5b028534@www.bauerfh.com
DTSTAMP:20260423T215355Z
DTSTART:20260427T140000Z
DTEND:20260427T160000Z
SUMMARY:Visitation
DESCRIPTION:
URL:https://www.bauerfh.com/obituaries/marianne-buenerkemper
LOCATION:Bauer Funeral Home 1212 West Evergreen Avenue  Effingham IL 
	62401
GEO:39.135425;-88.5579887
END:VEVENT
END:VCALENDAR